BEGIN:VCALENDAR
VERSION:2.0
PRODID:-//WorkshopSF - ECPv6.15.20//NONSGML v1.0//EN
CALSCALE:GREGORIAN
METHOD:PUBLISH
X-WR-CALNAME:WorkshopSF
X-ORIGINAL-URL:https://workshopsf.org
X-WR-CALDESC:Events for WorkshopSF
REFRESH-INTERVAL;VALUE=DURATION:PT1H
X-Robots-Tag:noindex
X-PUBLISHED-TTL:PT1H
BEGIN:VTIMEZONE
TZID:America/Los_Angeles
BEGIN:DAYLIGHT
TZOFFSETFROM:-0800
TZOFFSETTO:-0700
TZNAME:PDT
DTSTART:20250309T100000
END:DAYLIGHT
BEGIN:STANDARD
TZOFFSETFROM:-0700
TZOFFSETTO:-0800
TZNAME:PST
DTSTART:20251102T090000
END:STANDARD
BEGIN:DAYLIGHT
TZOFFSETFROM:-0800
TZOFFSETTO:-0700
TZNAME:PDT
DTSTART:20260308T100000
END:DAYLIGHT
BEGIN:STANDARD
TZOFFSETFROM:-0700
TZOFFSETTO:-0800
TZNAME:PST
DTSTART:20261101T090000
END:STANDARD
BEGIN:DAYLIGHT
TZOFFSETFROM:-0800
TZOFFSETTO:-0700
TZNAME:PDT
DTSTART:20270314T100000
END:DAYLIGHT
BEGIN:STANDARD
TZOFFSETFROM:-0700
TZOFFSETTO:-0800
TZNAME:PST
DTSTART:20271107T090000
END:STANDARD
END:VTIMEZONE
BEGIN:VEVENT
DTSTART;TZID=America/Los_Angeles:20260421T190000
DTEND;TZID=America/Los_Angeles:20260421T220000
DTSTAMP:20260421T030155
CREATED:20260121T063536Z
LAST-MODIFIED:20260121T063536Z
UID:10001223-1776798000-1776808800@workshopsf.org
SUMMARY:Floral Design: Framed Pressed Flower Art + Cards
DESCRIPTION:PRESSED-FLOWER-ART-S-1200x800-3PRESSED-FLOWER-ART-S-1200x800-1PRESSED-FLOWER-ART-S-1200x800-4PRESSED-FLOWER-ART-S-1200x800-5PRESSED-FLOWER-ART-S-1200x800-6                    \n\n                                    \n            \n        \n        \nDiscover the art of pressed floral design in this hands-on workshop for beginners. Professional floral designer Jodie Zhao\, owner of PlantBox Flower Preservation Studio\, will teach you essential floral design techniques\, including balance\, rhythm\, space\, proportion\, and color harmony\, while working with pressed flowers. \nThe class begins with an introduction to pressed flower art\, followed by creative tips to inspire your own floral designs. Next\, you will learn how to handle and adhere pressed flowers to a paper surface and glass surface\, assemble your artwork\, and care for your finished pieces. By the end of the session\, you’ll walk away with one beautiful 6″ X 8″ floral design on paper\, along with a stunning 6″ X 8″ solid wood floating frame featuring your own pressed flower art. This class will also provide you with the foundational skills to create more pressed flower arrangements\, along with information on suppliers\, tools\, and materials to help you keep your floral design inspiration flowing! \nSupplies Needed: None. All frames\, cardstock\, and dried flora for your projects are included. \nInstructor Bio: Jodie Zhao has been creating pressed flower art for the past three years after discovering the significant waste in the floral industry. A graduate of the Canadian Institute of Floral Design\, she now focuses on working with clients to customize their wedding bouquet preservation. You can explore her work on Instagram at @plantbox.ca or on her website at www.plantbox.store. \n\n\n \n\nThe rules / important stuff: We have a NO EXCEPTIONS 72 HOUR CANCELLATION policy – this includes cancellation\, re-books\, gift certificates\, moving classes\, etc. For more information on canceling a class\, please read our cancellation policy. All classes are 21+. If any questions\, please email us at info AT workshopsf DOT org. \n\nALL CLASSES TAKE PLACE AT WORKSHOP SF LOCATED AT 1310 HAIGHT STREET UNLESS OTHERWISE NOTED ON THE TITLE AND LISTING.
URL:https://workshopsf.org/class/floral-design-framed-pressed-flower-art-cards-0421/
LOCATION:WorkshopSF\, 1310 Haight Street\, San Francisco\, CA\, 94117
CATEGORIES:Plants
ATTACH;FMTTYPE=image/jpeg:https://workshopsf.org/wp-content/uploads/PRESSED-FLOWER-ART-S-1200x800-3.jpg
END:VEVENT
END:VCALENDAR