BEGIN:VCALENDAR
VERSION:2.0
PRODID:-//WorkshopSF - ECPv6.15.20//NONSGML v1.0//EN
CALSCALE:GREGORIAN
METHOD:PUBLISH
X-WR-CALNAME:WorkshopSF
X-ORIGINAL-URL:https://workshopsf.org
X-WR-CALDESC:Events for WorkshopSF
REFRESH-INTERVAL;VALUE=DURATION:PT1H
X-Robots-Tag:noindex
X-PUBLISHED-TTL:PT1H
BEGIN:VTIMEZONE
TZID:America/Los_Angeles
BEGIN:DAYLIGHT
TZOFFSETFROM:-0800
TZOFFSETTO:-0700
TZNAME:PDT
DTSTART:20250309T100000
END:DAYLIGHT
BEGIN:STANDARD
TZOFFSETFROM:-0700
TZOFFSETTO:-0800
TZNAME:PST
DTSTART:20251102T090000
END:STANDARD
BEGIN:DAYLIGHT
TZOFFSETFROM:-0800
TZOFFSETTO:-0700
TZNAME:PDT
DTSTART:20260308T100000
END:DAYLIGHT
BEGIN:STANDARD
TZOFFSETFROM:-0700
TZOFFSETTO:-0800
TZNAME:PST
DTSTART:20261101T090000
END:STANDARD
BEGIN:DAYLIGHT
TZOFFSETFROM:-0800
TZOFFSETTO:-0700
TZNAME:PDT
DTSTART:20270314T100000
END:DAYLIGHT
BEGIN:STANDARD
TZOFFSETFROM:-0700
TZOFFSETTO:-0800
TZNAME:PST
DTSTART:20271107T090000
END:STANDARD
END:VTIMEZONE
BEGIN:VEVENT
DTSTART;TZID=America/Los_Angeles:20260424T190000
DTEND;TZID=America/Los_Angeles:20260424T220000
DTSTAMP:20260424T043535
CREATED:20260121T065126Z
LAST-MODIFIED:20260121T065126Z
UID:10001226-1777057200-1777068000@workshopsf.org
SUMMARY:Sewing 101: Alberta Crossbody Tote
DESCRIPTION:ALBERTA-TOTE-S-1200X800-1ALBERTA-TOTE-S-1200X800-2ALBERTA-TOTE-S-1200X800-3ALBERTA-TOTE-S-1200X800-4ALBERTA-TOTE-S-1200X800-5ALBERTA-TOTE-L-1200X800-1ALBERTA-TOTE-L-1200X800-2ALBERTA-TOTE-L-1200X800-3ALBERTA-TOTE-L-1200X800-4                    \n\n                                    \n            \n        \n        \n\nIn Sewing 101: Alberta Crossbody Tote\, learn the basics of using a sewing machine as we walk you through how to sew up this gorgeous crossbody with an adjustable leather strap. This class is terrific for complete beginners as well as experienced sewers who are looking for a fun\, new project! Each bag measures approximately 9″ H x 11″ W (at bottom) x 3″ D\, offers premium leather strap and zipper pull\, and will be offered in black\, green\, and a rotating color/pattern. \n\n\n\nYou’ll learn the fundamentals of operating a sewing machine\, sewing basic stitches\, attaching a zipper\, and adding rivets. You will leave with one finished Alberta bag and pattern\, as well as the confidence to continue sewing on your own. This is a stand-alone class\, so feel free to take our Sewing Bootcamp or other sewing classes afterwards to continue honing your craft! \n\n\n\nSupplies Needed: None. We supply all fabric\, leather\, hardware\, and the machines. We will be using the popular Klum House Alberta Crossbody Tote sewing pattern for this project. (More information on this design may be found here on the Klum House site.) Also\, you will be using a simple Janome 2212\, which is great for learning and skills can easily transfer to other machines. Please don’t bring your own machine. \n\n\n\n \n\n\nInstructor Bio: Hayley has been sewing since the tender age of three. A jack of all trades\, she has extensive experience with sewing\, past works include upholstery\, stuffed animals\, home goods\, clothing\, alterations and repairs\, tailoring\, bags\, and just about anything else you can think of! \n\n\n\n \n\nThe rules / important stuff: We have a NO EXCEPTIONS 72 HOUR CANCELLATION policy – this includes cancellation\, re-books\, gift certificates\, moving classes\, etc. For more information on canceling a class\, please read our cancellation policy. All classes are 21+. If any questions\, please email us at info AT workshopsf DOT org. \n\nALL CLASSES TAKE PLACE AT WORKSHOP SF LOCATED AT 1310 HAIGHT STREET UNLESS OTHERWISE NOTED ON THE TITLE AND LISTING.
URL:https://workshopsf.org/class/sewing-101-alberta-crossbody-tote-0424/
LOCATION:WorkshopSF\, 1310 Haight Street\, San Francisco\, CA\, 94117
CATEGORIES:Textile + Craft
ATTACH;FMTTYPE=image/jpeg:https://workshopsf.org/wp-content/uploads/ALBERTA-TOTE-S-1200X800-1.jpg
END:VEVENT
END:VCALENDAR